BEGIN:VCALENDAR
VERSION:2.0
PRODID:-//eventon.com NONSGML v1.0//EN
CALSCALE:GREGORIAN
METHOD:PUBLISH
BEGIN:VEVENT
UID:69e88d1341bd6
DTSTAMP:20260422T085547Z
DTSTART:20261010T200000Z
DTEND:20261010T230000Z
LOCATION:
SUMMARY:André Herzberg
DESCRIPTION:Was kann einer machen\,  der ein großartiges Kapitel hinter si
 ch hat? Der Sänger von PANKOW wird\,  nach dem Ende der legendären Band\,
   weiter auf die Bühne gehen. Sein neues Album wird den Namen tragen: „D
 er lange Weg zur Liebe“. Es verspricht langjährige Erfahrung in Humor\, 
  Mut und Melancholie und beschwingt[..]\nhttps://www.kammerspiele-treuenbri
 etzen.de/events/andre-herzberg/
URL:https://www.kammerspiele-treuenbrietzen.de/events/andre-herzberg/
END:VEVENT
END:VCALENDAR